BEGIN:VCALENDAR
VERSION:2.0
PRODID:-//Goldgrube//myauktion.com//AT
CALSCALE:GREGORIAN
BEGIN:VEVENT
DTSTART:20260505T094600
DTEND:20260505T094630
LOCATION:Gewerbepark 13, 8562 Mooskirchen
DTSTAMP:20260422T003432
SUMMARY:MyAuktion: Ablauf Artikel Nr. 904235 Div. Kosmetikartikel
URL;VALUE=URI:https://www.myauktion.com/versteigerung7654-position2443786-div-kosmetikartikel.php
DESCRIPTION:
UID:myauktion-7654-2443786
BEGIN:VALARM
ACTION:DISPLAY
DESCRIPTION:
TRIGGER:-PT10M
END:VALARM
END:VEVENT
END:VCALENDAR