BEGIN:VCALENDAR
VERSION:2.0
PRODID:-//Goldgrube//myauktion.com//AT
CALSCALE:GREGORIAN
BEGIN:VEVENT
DTSTART:20260505T094700
DTEND:20260505T094730
LOCATION:Gewerbepark 13, 8562 Mooskirchen
DTSTAMP:20260421T205654
SUMMARY:MyAuktion: Ablauf Artikel Nr. 904280 Dr. Gyn Intim Waschgel und pflege 200ml und 30ml
URL;VALUE=URI:https://www.myauktion.com/versteigerung7654-position2443787-dr-gyn-intim-waschgel-und-pflege-200ml-und-30ml.php
DESCRIPTION:
UID:myauktion-7654-2443787
BEGIN:VALARM
ACTION:DISPLAY
DESCRIPTION:
TRIGGER:-PT10M
END:VALARM
END:VEVENT
END:VCALENDAR