BEGIN:VCALENDAR
VERSION:2.0
PRODID:-//Goldgrube//myauktion.com//AT
CALSCALE:GREGORIAN
BEGIN:VEVENT
DTSTART:20260505T095100
DTEND:20260505T095130
LOCATION:Gewerbepark 13, 8562 Mooskirchen
DTSTAMP:20260421T205654
SUMMARY:MyAuktion: Ablauf Artikel Nr. 904288 EQOLOGY Omega-3 Test Kit
URL;VALUE=URI:https://www.myauktion.com/versteigerung7654-position2443791-eqology-omega-3-test-kit.php
DESCRIPTION:
UID:myauktion-7654-2443791
BEGIN:VALARM
ACTION:DISPLAY
DESCRIPTION:
TRIGGER:-PT10M
END:VALARM
END:VEVENT
END:VCALENDAR