BEGIN:VCALENDAR
VERSION:2.0
PRODID:-//Goldgrube//myauktion.com//AT
CALSCALE:GREGORIAN
BEGIN:VEVENT
DTSTART:20260505T110700
DTEND:20260505T110730
LOCATION:Gewerbepark 13, 8562 Mooskirchen
DTSTAMP:20260421T200031
SUMMARY:MyAuktion: Ablauf Artikel Nr. 953708 alverde Shampoo Repair & Care Geschädigtes Haar 2 stk 200 ml
URL;VALUE=URI:https://www.myauktion.com/versteigerung7654-position2443793-alverde-shampoo-repair-care-geschaedigtes-haar-2-stk-200-ml.php
DESCRIPTION:
UID:myauktion-7654-2443793
BEGIN:VALARM
ACTION:DISPLAY
DESCRIPTION:
TRIGGER:-PT10M
END:VALARM
END:VEVENT
END:VCALENDAR