BEGIN:VCALENDAR
VERSION:2.0
PRODID:-//Goldgrube//myauktion.com//AT
CALSCALE:GREGORIAN
BEGIN:VEVENT
DTSTART:20260505T111000
DTEND:20260505T111030
LOCATION:Gewerbepark 13, 8562 Mooskirchen
DTSTAMP:20260421T225103
SUMMARY:MyAuktion: Ablauf Artikel Nr. 953741 La Corvette Savon Liquide de Marseille Olive
URL;VALUE=URI:https://www.myauktion.com/versteigerung7654-position2443796-la-corvette-savon-liquide-de-marseille-olive.php
DESCRIPTION:
UID:myauktion-7654-2443796
BEGIN:VALARM
ACTION:DISPLAY
DESCRIPTION:
TRIGGER:-PT10M
END:VALARM
END:VEVENT
END:VCALENDAR