BEGIN:VCALENDAR
VERSION:2.0
PRODID:-//Goldgrube//myauktion.com//AT
CALSCALE:GREGORIAN
BEGIN:VEVENT
DTSTART:20260505T111400
DTEND:20260505T111430
LOCATION:Gewerbepark 13, 8562 Mooskirchen
DTSTAMP:20260421T225050
SUMMARY:MyAuktion: Ablauf Artikel Nr. 953767 Odif OdiCoat Klebegel 250ml
URL;VALUE=URI:https://www.myauktion.com/versteigerung7654-position2443800-odif-odicoat-klebegel-250ml.php
DESCRIPTION:
UID:myauktion-7654-2443800
BEGIN:VALARM
ACTION:DISPLAY
DESCRIPTION:
TRIGGER:-PT10M
END:VALARM
END:VEVENT
END:VCALENDAR