BEGIN:VCALENDAR
VERSION:2.0
PRODID:-//Goldgrube//myauktion.com//AT
CALSCALE:GREGORIAN
BEGIN:VEVENT
DTSTART:20260505T111500
DTEND:20260505T111530
LOCATION:Gewerbepark 13, 8562 Mooskirchen
DTSTAMP:20260421T225106
SUMMARY:MyAuktion: Ablauf Artikel Nr. 953770 Rizzoli Pulpo in Aceto di Oliva
URL;VALUE=URI:https://www.myauktion.com/versteigerung7654-position2443801-rizzoli-pulpo-in-aceto-di-oliva.php
DESCRIPTION:
UID:myauktion-7654-2443801
BEGIN:VALARM
ACTION:DISPLAY
DESCRIPTION:
TRIGGER:-PT10M
END:VALARM
END:VEVENT
END:VCALENDAR