BEGIN:VCALENDAR
VERSION:2.0
PRODID:-//Goldgrube//myauktion.com//AT
CALSCALE:GREGORIAN
BEGIN:VEVENT
DTSTART:20260505T112000
DTEND:20260505T112030
LOCATION:Gewerbepark 13, 8562 Mooskirchen
DTSTAMP:20260421T225049
SUMMARY:MyAuktion: Ablauf Artikel Nr. 953787 Balea Milch & Honig Schaumbad, Balea Sweet Moments Schaumbad 750ml
URL;VALUE=URI:https://www.myauktion.com/versteigerung7654-position2443806-balea-milch-honig-schaumbad-balea-sweet-moments-schaumbad-750ml.php
DESCRIPTION:
UID:myauktion-7654-2443806
BEGIN:VALARM
ACTION:DISPLAY
DESCRIPTION:
TRIGGER:-PT10M
END:VALARM
END:VEVENT
END:VCALENDAR