BEGIN:VCALENDAR
VERSION:2.0
PRODID:-//Goldgrube//myauktion.com//AT
CALSCALE:GREGORIAN
BEGIN:VEVENT
DTSTART:20260505T112200
DTEND:20260505T112230
LOCATION:Gewerbepark 13, 8562 Mooskirchen
DTSTAMP:20260421T225051
SUMMARY:MyAuktion: Ablauf Artikel Nr. 953799 Jeffree Star Cosmetics Mini Controversy Palette
URL;VALUE=URI:https://www.myauktion.com/versteigerung7654-position2443808-jeffree-star-cosmetics-mini-controversy-palette.php
DESCRIPTION:
UID:myauktion-7654-2443808
BEGIN:VALARM
ACTION:DISPLAY
DESCRIPTION:
TRIGGER:-PT10M
END:VALARM
END:VEVENT
END:VCALENDAR