BEGIN:VCALENDAR
VERSION:2.0
PRODID:-//Goldgrube//myauktion.com//AT
CALSCALE:GREGORIAN
BEGIN:VEVENT
DTSTART:20260505T112300
DTEND:20260505T112330
LOCATION:Gewerbepark 13, 8562 Mooskirchen
DTSTAMP:20260421T220002
SUMMARY:MyAuktion: Ablauf Artikel Nr. 953801 Oli Phenolia Intesiv klärenes Gesichtswaschgel
URL;VALUE=URI:https://www.myauktion.com/versteigerung7654-position2443809-oli-phenolia-intesiv-klaerenes-gesichtswaschgel.php
DESCRIPTION:
UID:myauktion-7654-2443809
BEGIN:VALARM
ACTION:DISPLAY
DESCRIPTION:
TRIGGER:-PT10M
END:VALARM
END:VEVENT
END:VCALENDAR