BEGIN:VCALENDAR
VERSION:2.0
PRODID:-//Goldgrube//myauktion.com//AT
CALSCALE:GREGORIAN
BEGIN:VEVENT
DTSTART:20260505T112400
DTEND:20260505T112430
LOCATION:Gewerbepark 13, 8562 Mooskirchen
DTSTAMP:20260421T225056
SUMMARY:MyAuktion: Ablauf Artikel Nr. 953802 HERO Root Activator Shampoo 250 ml
URL;VALUE=URI:https://www.myauktion.com/versteigerung7654-position2443810-hero-root-activator-shampoo-250-ml.php
DESCRIPTION:
UID:myauktion-7654-2443810
BEGIN:VALARM
ACTION:DISPLAY
DESCRIPTION:
TRIGGER:-PT10M
END:VALARM
END:VEVENT
END:VCALENDAR