BEGIN:VCALENDAR
VERSION:2.0
PRODID:-//Goldgrube//myauktion.com//AT
CALSCALE:GREGORIAN
BEGIN:VEVENT
DTSTART:20260505T112500
DTEND:20260505T112530
LOCATION:Gewerbepark 13, 8562 Mooskirchen
DTSTAMP:20260421T225052
SUMMARY:MyAuktion: Ablauf Artikel Nr. 953804 Dr. Armah Lavolta Sheal Anti-Rötungen Creme 100ml
URL;VALUE=URI:https://www.myauktion.com/versteigerung7654-position2443811-dr-armah-lavolta-sheal-anti-roetungen-creme-100ml.php
DESCRIPTION:
UID:myauktion-7654-2443811
BEGIN:VALARM
ACTION:DISPLAY
DESCRIPTION:
TRIGGER:-PT10M
END:VALARM
END:VEVENT
END:VCALENDAR