BEGIN:VCALENDAR
VERSION:2.0
PRODID:-//Goldgrube//myauktion.com//AT
CALSCALE:GREGORIAN
BEGIN:VEVENT
DTSTART:20260505T112600
DTEND:20260505T112630
LOCATION:Gewerbepark 13, 8562 Mooskirchen
DTSTAMP:20260421T225055
SUMMARY:MyAuktion: Ablauf Artikel Nr. 953805 kemon ACTYVA nutrizione ricca MASK 200ml
URL;VALUE=URI:https://www.myauktion.com/versteigerung7654-position2443812-kemon-actyva-nutrizione-ricca-mask-200ml.php
DESCRIPTION:Inhalt: 200 ml
UID:myauktion-7654-2443812
BEGIN:VALARM
ACTION:DISPLAY
DESCRIPTION:Inhalt: 200 ml
TRIGGER:-PT10M
END:VALARM
END:VEVENT
END:VCALENDAR