BEGIN:VCALENDAR
VERSION:2.0
PRODID:-//Goldgrube//myauktion.com//AT
CALSCALE:GREGORIAN
BEGIN:VEVENT
DTSTART:20260505T112700
DTEND:20260505T112730
LOCATION:Gewerbepark 13, 8562 Mooskirchen
DTSTAMP:20260421T225057
SUMMARY:MyAuktion: Ablauf Artikel Nr. 953809 puremetfcs Trockenshampoo Nachfüllpack „Cotton“
URL;VALUE=URI:https://www.myauktion.com/versteigerung7654-position2443813-puremetfcs-trockenshampoo-nachfuellpack-cotton.php
DESCRIPTION:100% vegan & plastikfrei
UID:myauktion-7654-2443813
BEGIN:VALARM
ACTION:DISPLAY
DESCRIPTION:100% vegan & plastikfrei
TRIGGER:-PT10M
END:VALARM
END:VEVENT
END:VCALENDAR