BEGIN:VCALENDAR
VERSION:2.0
PRODID:-//Goldgrube//myauktion.com//AT
CALSCALE:GREGORIAN
BEGIN:VEVENT
DTSTART:20260505T100000
DTEND:20260505T100030
LOCATION:Gewerbepark 13, 8562 Mooskirchen
DTSTAMP:20260422T060749
SUMMARY:MyAuktion: Ablauf Artikel Nr. 915181 Casa Leon Fertig-Vorhang 140x245cm 
URL;VALUE=URI:https://www.myauktion.com/versteigerung7654-position2443819-casa-leon-fertig-vorhang-140x245cm.php
DESCRIPTION:
UID:myauktion-7654-2443819
BEGIN:VALARM
ACTION:DISPLAY
DESCRIPTION:
TRIGGER:-PT10M
END:VALARM
END:VEVENT
END:VCALENDAR