BEGIN:VCALENDAR
VERSION:2.0
PRODID:-//Goldgrube//myauktion.com//AT
CALSCALE:GREGORIAN
BEGIN:VEVENT
DTSTART:20260505T100100
DTEND:20260505T100130
LOCATION:Gewerbepark 13, 8562 Mooskirchen
DTSTAMP:20260421T200030
SUMMARY:MyAuktion: Ablauf Artikel Nr. 915187 Pauleen Crystal Gloom 48158
URL;VALUE=URI:https://www.myauktion.com/versteigerung7654-position2443820-pauleen-crystal-gloom-48158.php
DESCRIPTION:E27/ 230V
UID:myauktion-7654-2443820
BEGIN:VALARM
ACTION:DISPLAY
DESCRIPTION:E27/ 230V
TRIGGER:-PT10M
END:VALARM
END:VEVENT
END:VCALENDAR