BEGIN:VCALENDAR
VERSION:2.0
PRODID:-//Goldgrube//myauktion.com//AT
CALSCALE:GREGORIAN
BEGIN:VEVENT
DTSTART:20260505T100800
DTEND:20260505T100830
LOCATION:Gewerbepark 13, 8562 Mooskirchen
DTSTAMP:20260422T060749
SUMMARY:MyAuktion: Ablauf Artikel Nr. 916341 4smarts Tablet Case for Samsung Galaxy Tab A 10.1 (2019) 
URL;VALUE=URI:https://www.myauktion.com/versteigerung7654-position2443821-4smarts-tablet-case-for-samsung-galaxy-tab-a-101-2019.php
DESCRIPTION:
UID:myauktion-7654-2443821
BEGIN:VALARM
ACTION:DISPLAY
DESCRIPTION:
TRIGGER:-PT10M
END:VALARM
END:VEVENT
END:VCALENDAR