BEGIN:VCALENDAR
VERSION:2.0
PRODID:-//Goldgrube//myauktion.com//AT
CALSCALE:GREGORIAN
BEGIN:VEVENT
DTSTART:20260505T100900
DTEND:20260505T100930
LOCATION:Gewerbepark 13, 8562 Mooskirchen
DTSTAMP:20260421T205653
SUMMARY:MyAuktion: Ablauf Artikel Nr. 916347 House Nordic Wall shelf white 40x13x60cm 4293021 
URL;VALUE=URI:https://www.myauktion.com/versteigerung7654-position2443822-house-nordic-wall-shelf-white-40x13x60cm-4293021.php
DESCRIPTION:
UID:myauktion-7654-2443822
BEGIN:VALARM
ACTION:DISPLAY
DESCRIPTION:
TRIGGER:-PT10M
END:VALARM
END:VEVENT
END:VCALENDAR