BEGIN:VCALENDAR
VERSION:2.0
PRODID:-//Goldgrube//myauktion.com//AT
CALSCALE:GREGORIAN
BEGIN:VEVENT
DTSTART:20260505T101300
DTEND:20260505T101330
LOCATION:Gewerbepark 13, 8562 Mooskirchen
DTSTAMP:20260421T205653
SUMMARY:MyAuktion: Ablauf Artikel Nr. 916392 Woods Portable Air Conditioner AC Milan 7K WiFi Smart Home PO2530 
URL;VALUE=URI:https://www.myauktion.com/versteigerung7654-position2443826-woods-portable-air-conditioner-ac-milan-7k-wifi-smart-home-po2530.php
DESCRIPTION:Verpackung beschädigt 
UID:myauktion-7654-2443826
BEGIN:VALARM
ACTION:DISPLAY
DESCRIPTION:Verpackung beschädigt 
TRIGGER:-PT10M
END:VALARM
END:VEVENT
END:VCALENDAR