BEGIN:VCALENDAR
VERSION:2.0
PRODID:-//Goldgrube//myauktion.com//AT
CALSCALE:GREGORIAN
BEGIN:VEVENT
DTSTART:20260505T101500
DTEND:20260505T101530
LOCATION:Gewerbepark 13, 8562 Mooskirchen
DTSTAMP:20260421T225103
SUMMARY:MyAuktion: Ablauf Artikel Nr. 916401 Sissel Covers Comfort Bezug Schokolade/Creme 35x195cm 
URL;VALUE=URI:https://www.myauktion.com/versteigerung7654-position2443828-sissel-covers-comfort-bezug-schokolade-creme-35x195cm.php
DESCRIPTION:
UID:myauktion-7654-2443828
BEGIN:VALARM
ACTION:DISPLAY
DESCRIPTION:
TRIGGER:-PT10M
END:VALARM
END:VEVENT
END:VCALENDAR