BEGIN:VCALENDAR
VERSION:2.0
PRODID:-//Goldgrube//myauktion.com//AT
CALSCALE:GREGORIAN
BEGIN:VEVENT
DTSTART:20260505T100200
DTEND:20260505T100230
LOCATION:Gewerbepark 13, 8562 Mooskirchen
DTSTAMP:20260421T205654
SUMMARY:MyAuktion: Ablauf Artikel Nr. 915212 Knethaken KW711659
URL;VALUE=URI:https://www.myauktion.com/versteigerung7654-position2443829-knethaken-kw711659.php
DESCRIPTION:
UID:myauktion-7654-2443829
BEGIN:VALARM
ACTION:DISPLAY
DESCRIPTION:
TRIGGER:-PT10M
END:VALARM
END:VEVENT
END:VCALENDAR