BEGIN:VCALENDAR
VERSION:2.0
PRODID:-//Goldgrube//myauktion.com//AT
CALSCALE:GREGORIAN
BEGIN:VEVENT
DTSTART:20260505T100300
DTEND:20260505T100330
LOCATION:Gewerbepark 13, 8562 Mooskirchen
DTSTAMP:20260421T205653
SUMMARY:MyAuktion: Ablauf Artikel Nr. 915216 Koor Strand Sonnenschirm Ecru F01055
URL;VALUE=URI:https://www.myauktion.com/versteigerung7654-position2443831-koor-strand-sonnenschirm-ecru-f01055.php
DESCRIPTION:
UID:myauktion-7654-2443831
BEGIN:VALARM
ACTION:DISPLAY
DESCRIPTION:
TRIGGER:-PT10M
END:VALARM
END:VEVENT
END:VCALENDAR