BEGIN:VCALENDAR
VERSION:2.0
PRODID:-//Goldgrube//myauktion.com//AT
CALSCALE:GREGORIAN
BEGIN:VEVENT
DTSTART:20260505T102000
DTEND:20260505T102030
LOCATION:Gewerbepark 13, 8562 Mooskirchen
DTSTAMP:20260421T225102
SUMMARY:MyAuktion: Ablauf Artikel Nr. 916603 Cocon Bettgitter 200x68cm 
URL;VALUE=URI:https://www.myauktion.com/versteigerung7654-position2443832-cocon-bettgitter-200x68cm.php
DESCRIPTION:Verpackung beschädigt/ Keine näheren Daten ersichtlich 
UID:myauktion-7654-2443832
BEGIN:VALARM
ACTION:DISPLAY
DESCRIPTION:Verpackung beschädigt/ Keine näheren Daten ersichtlich 
TRIGGER:-PT10M
END:VALARM
END:VEVENT
END:VCALENDAR