BEGIN:VCALENDAR
VERSION:2.0
PRODID:-//Goldgrube//myauktion.com//AT
CALSCALE:GREGORIAN
BEGIN:VEVENT
DTSTART:20260505T102100
DTEND:20260505T102130
LOCATION:Gewerbepark 13, 8562 Mooskirchen
DTSTAMP:20260421T225104
SUMMARY:MyAuktion: Ablauf Artikel Nr. 916609 Hama Sevilla Silber Matt Bilderrahmen 50x70cm
URL;VALUE=URI:https://www.myauktion.com/versteigerung7654-position2443833-hama-sevilla-silber-matt-bilderrahmen-50x70cm.php
DESCRIPTION:Leicht beschädigt 
UID:myauktion-7654-2443833
BEGIN:VALARM
ACTION:DISPLAY
DESCRIPTION:Leicht beschädigt 
TRIGGER:-PT10M
END:VALARM
END:VEVENT
END:VCALENDAR