BEGIN:VCALENDAR
VERSION:2.0
PRODID:-//Goldgrube//myauktion.com//AT
CALSCALE:GREGORIAN
BEGIN:VEVENT
DTSTART:20260505T101900
DTEND:20260505T101930
LOCATION:Gewerbepark 13, 8562 Mooskirchen
DTSTAMP:20260422T060751
SUMMARY:MyAuktion: Ablauf Artikel Nr. 916481 Spirella Duschvorhang Orange 
URL;VALUE=URI:https://www.myauktion.com/versteigerung7654-position2443836-spirella-duschvorhang-orange.php
DESCRIPTION:Keine Größe ersichtlich 
UID:myauktion-7654-2443836
BEGIN:VALARM
ACTION:DISPLAY
DESCRIPTION:Keine Größe ersichtlich 
TRIGGER:-PT10M
END:VALARM
END:VEVENT
END:VCALENDAR