BEGIN:VCALENDAR
VERSION:2.0
PRODID:-//Goldgrube//myauktion.com//AT
CALSCALE:GREGORIAN
BEGIN:VEVENT
DTSTART:20260505T095300
DTEND:20260505T095330
LOCATION:Gewerbepark 13, 8562 Mooskirchen
DTSTAMP:20260421T225101
SUMMARY:MyAuktion: Ablauf Artikel Nr. 912849 Cocon Loungeset 82754539
URL;VALUE=URI:https://www.myauktion.com/versteigerung7654-position2443837-cocon-loungeset-82754539.php
DESCRIPTION:Leicht beschädigt , Vollständigkeit nicht geprüft. 
UID:myauktion-7654-2443837
BEGIN:VALARM
ACTION:DISPLAY
DESCRIPTION:Leicht beschädigt , Vollständigkeit nicht geprüft. 
TRIGGER:-PT10M
END:VALARM
END:VEVENT
END:VCALENDAR