BEGIN:VCALENDAR
VERSION:2.0
PRODID:-//Goldgrube//myauktion.com//AT
CALSCALE:GREGORIAN
BEGIN:VEVENT
DTSTART:20260505T100500
DTEND:20260505T100530
LOCATION:Gewerbepark 13, 8562 Mooskirchen
DTSTAMP:20260421T205653
SUMMARY:MyAuktion: Ablauf Artikel Nr. 916248 Casa Leon Fertig-Vorhang col.140 
URL;VALUE=URI:https://www.myauktion.com/versteigerung7654-position2443838-casa-leon-fertig-vorhang-col140.php
DESCRIPTION:
UID:myauktion-7654-2443838
BEGIN:VALARM
ACTION:DISPLAY
DESCRIPTION:
TRIGGER:-PT10M
END:VALARM
END:VEVENT
END:VCALENDAR