BEGIN:VCALENDAR
VERSION:2.0
PRODID:-//Goldgrube//myauktion.com//AT
CALSCALE:GREGORIAN
BEGIN:VEVENT
DTSTART:20260505T095500
DTEND:20260505T095530
LOCATION:Gewerbepark 13, 8562 Mooskirchen
DTSTAMP:20260421T205653
SUMMARY:MyAuktion: Ablauf Artikel Nr. 915124 Euro Trail Hülle für den Grill ETGF5801
URL;VALUE=URI:https://www.myauktion.com/versteigerung7654-position2443839-euro-trail-huelle-fuer-den-grill-etgf5801.php
DESCRIPTION:
UID:myauktion-7654-2443839
BEGIN:VALARM
ACTION:DISPLAY
DESCRIPTION:
TRIGGER:-PT10M
END:VALARM
END:VEVENT
END:VCALENDAR