BEGIN:VCALENDAR
VERSION:2.0
PRODID:-//Goldgrube//myauktion.com//AT
CALSCALE:GREGORIAN
BEGIN:VEVENT
DTSTART:20260505T100600
DTEND:20260505T100630
LOCATION:Gewerbepark 13, 8562 Mooskirchen
DTSTAMP:20260422T060751
SUMMARY:MyAuktion: Ablauf Artikel Nr. 916256 Qibbel luggage Carrier 6+ 
URL;VALUE=URI:https://www.myauktion.com/versteigerung7654-position2443840-qibbel-luggage-carrier-6-.php
DESCRIPTION:Gebraucht 
UID:myauktion-7654-2443840
BEGIN:VALARM
ACTION:DISPLAY
DESCRIPTION:Gebraucht 
TRIGGER:-PT10M
END:VALARM
END:VEVENT
END:VCALENDAR