BEGIN:VCALENDAR
VERSION:2.0
PRODID:-//Goldgrube//myauktion.com//AT
CALSCALE:GREGORIAN
BEGIN:VEVENT
DTSTART:20260505T095700
DTEND:20260505T095730
LOCATION:Gewerbepark 13, 8562 Mooskirchen
DTSTAMP:20260421T225056
SUMMARY:MyAuktion: Ablauf Artikel Nr. 915149 Playshoes Kinder Badewindel 
URL;VALUE=URI:https://www.myauktion.com/versteigerung7654-position2443843-playshoes-kinder-badewindel.php
DESCRIPTION:Gr. 62/68 3-6M
UID:myauktion-7654-2443843
BEGIN:VALARM
ACTION:DISPLAY
DESCRIPTION:Gr. 62/68 3-6M
TRIGGER:-PT10M
END:VALARM
END:VEVENT
END:VCALENDAR