BEGIN:VCALENDAR
VERSION:2.0
PRODID:-//Goldgrube//myauktion.com//AT
CALSCALE:GREGORIAN
BEGIN:VEVENT
DTSTART:20260505T100700
DTEND:20260505T100730
LOCATION:Gewerbepark 13, 8562 Mooskirchen
DTSTAMP:20260421T225056
SUMMARY:MyAuktion: Ablauf Artikel Nr. 916291 Casa Leon Fertig Vorhang col. 076 140x245cm 
URL;VALUE=URI:https://www.myauktion.com/versteigerung7654-position2443844-casa-leon-fertig-vorhang-col-076-140x245cm.php
DESCRIPTION:
UID:myauktion-7654-2443844
BEGIN:VALARM
ACTION:DISPLAY
DESCRIPTION:
TRIGGER:-PT10M
END:VALARM
END:VEVENT
END:VCALENDAR