BEGIN:VCALENDAR
VERSION:2.0
PRODID:-//Goldgrube//myauktion.com//AT
CALSCALE:GREGORIAN
BEGIN:VEVENT
DTSTART:20260505T095800
DTEND:20260505T095830
LOCATION:Gewerbepark 13, 8562 Mooskirchen
DTSTAMP:20260421T225107
SUMMARY:MyAuktion: Ablauf Artikel Nr. 915153 Kleine Wolke Duschvorhang 120x200cm
URL;VALUE=URI:https://www.myauktion.com/versteigerung7654-position2443845-kleine-wolke-duschvorhang-120x200cm.php
DESCRIPTION:
UID:myauktion-7654-2443845
BEGIN:VALARM
ACTION:DISPLAY
DESCRIPTION:
TRIGGER:-PT10M
END:VALARM
END:VEVENT
END:VCALENDAR