BEGIN:VCALENDAR
VERSION:2.0
PRODID:-//Goldgrube//myauktion.com//AT
CALSCALE:GREGORIAN
BEGIN:VEVENT
DTSTART:20260505T134600
DTEND:20260505T134630
LOCATION:Gewerbepark 13, 8562 Mooskirchen
DTSTAMP:20260421T225051
SUMMARY:MyAuktion: Ablauf Artikel Nr. 432941 Tri-opt Brille Ohne Dioptrie
URL;VALUE=URI:https://www.myauktion.com/versteigerung7665-position2443865-tri-opt-brille-ohne-dioptrie.php
DESCRIPTION:
UID:myauktion-7665-2443865
BEGIN:VALARM
ACTION:DISPLAY
DESCRIPTION:
TRIGGER:-PT10M
END:VALARM
END:VEVENT
END:VCALENDAR