BEGIN:VCALENDAR
VERSION:2.0
PRODID:-//Goldgrube//myauktion.com//AT
CALSCALE:GREGORIAN
BEGIN:VEVENT
DTSTART:20260505T141000
DTEND:20260505T141030
LOCATION:Gewerbepark 13, 8562 Mooskirchen
DTSTAMP:20260421T225102
SUMMARY:MyAuktion: Ablauf Artikel Nr. 432958 Tri-opt Brille Ohne Dioptrie
URL;VALUE=URI:https://www.myauktion.com/versteigerung7665-position2443882-tri-opt-brille-ohne-dioptrie.php
DESCRIPTION:
UID:myauktion-7665-2443882
BEGIN:VALARM
ACTION:DISPLAY
DESCRIPTION:
TRIGGER:-PT10M
END:VALARM
END:VEVENT
END:VCALENDAR