BEGIN:VCALENDAR
VERSION:2.0
PRODID:-//Goldgrube//myauktion.com//AT
CALSCALE:GREGORIAN
BEGIN:VEVENT
DTSTART:20260505T141200
DTEND:20260505T141230
LOCATION:Gewerbepark 13, 8562 Mooskirchen
DTSTAMP:20260421T225101
SUMMARY:MyAuktion: Ablauf Artikel Nr. 432960 Tri-opt Brille Ohne Dioptrie
URL;VALUE=URI:https://www.myauktion.com/versteigerung7665-position2443884-tri-opt-brille-ohne-dioptrie.php
DESCRIPTION:Verbogen 
UID:myauktion-7665-2443884
BEGIN:VALARM
ACTION:DISPLAY
DESCRIPTION:Verbogen 
TRIGGER:-PT10M
END:VALARM
END:VEVENT
END:VCALENDAR