BEGIN:VCALENDAR
VERSION:2.0
PRODID:-//Goldgrube//myauktion.com//AT
CALSCALE:GREGORIAN
BEGIN:VEVENT
DTSTART:20260505T141300
DTEND:20260505T141330
LOCATION:Gewerbepark 13, 8562 Mooskirchen
DTSTAMP:20260421T225107
SUMMARY:MyAuktion: Ablauf Artikel Nr. 432961 Tri-opt Brille Ohne Dioptrie
URL;VALUE=URI:https://www.myauktion.com/versteigerung7665-position2443885-tri-opt-brille-ohne-dioptrie.php
DESCRIPTION:Verbogen 
UID:myauktion-7665-2443885
BEGIN:VALARM
ACTION:DISPLAY
DESCRIPTION:Verbogen 
TRIGGER:-PT10M
END:VALARM
END:VEVENT
END:VCALENDAR