BEGIN:VCALENDAR
VERSION:2.0
PRODID:-//Goldgrube//myauktion.com//AT
CALSCALE:GREGORIAN
BEGIN:VEVENT
DTSTART:20260505T141600
DTEND:20260505T141630
LOCATION:Gewerbepark 13, 8562 Mooskirchen
DTSTAMP:20260421T225050
SUMMARY:MyAuktion: Ablauf Artikel Nr. 432964 Tri-opt Kinder Brille Ohne Glas
URL;VALUE=URI:https://www.myauktion.com/versteigerung7665-position2443888-tri-opt-kinder-brille-ohne-glas.php
DESCRIPTION:
UID:myauktion-7665-2443888
BEGIN:VALARM
ACTION:DISPLAY
DESCRIPTION:
TRIGGER:-PT10M
END:VALARM
END:VEVENT
END:VCALENDAR