BEGIN:VCALENDAR
VERSION:2.0
PRODID:-//Goldgrube//myauktion.com//AT
CALSCALE:GREGORIAN
BEGIN:VEVENT
DTSTART:20260505T130100
DTEND:20260505T130130
LOCATION:Gewerbepark 13, 8562 Mooskirchen
DTSTAMP:20260421T225052
SUMMARY:MyAuktion: Ablauf Artikel Nr. 432926 Tri-opt Brille Ohne Dioptrie 
URL;VALUE=URI:https://www.myauktion.com/versteigerung7665-position2443911-tri-opt-brille-ohne-dioptrie.php
DESCRIPTION:
UID:myauktion-7665-2443911
BEGIN:VALARM
ACTION:DISPLAY
DESCRIPTION:
TRIGGER:-PT10M
END:VALARM
END:VEVENT
END:VCALENDAR