BEGIN:VCALENDAR
VERSION:2.0
PRODID:-//Goldgrube//myauktion.com//AT
CALSCALE:GREGORIAN
BEGIN:VEVENT
DTSTART:20260508T110000
DTEND:20260508T110030
LOCATION:Gewerbepark 13, 8562 Mooskirchen
DTSTAMP:20260425T015255
SUMMARY:MyAuktion: Ablauf Artikel Nr. 523517 Continental WinterContact TS 870 P 215/65 R17 99 H
URL;VALUE=URI:https://www.myauktion.com/versteigerung7666-position2444374-continental-wintercontact-ts-870-p-215-65-r17-99-h.php
DESCRIPTION:
UID:myauktion-7666-2444374
BEGIN:VALARM
ACTION:DISPLAY
DESCRIPTION:
TRIGGER:-PT10M
END:VALARM
END:VEVENT
END:VCALENDAR