BEGIN:VCALENDAR
VERSION:2.0
PRODID:-//Goldgrube//myauktion.com//AT
CALSCALE:GREGORIAN
BEGIN:VEVENT
DTSTART:20260508T110200
DTEND:20260508T110230
LOCATION:Gewerbepark 13, 8562 Mooskirchen
DTSTAMP:20260425T015256
SUMMARY:MyAuktion: Ablauf Artikel Nr. 523519 Continental Contact 2 195/55 R16 91 V XL
URL;VALUE=URI:https://www.myauktion.com/versteigerung7666-position2444376-continental-contact-2-195-55-r16-91-v-xl.php
DESCRIPTION:MHD:. Spannung: 91 V
UID:myauktion-7666-2444376
BEGIN:VALARM
ACTION:DISPLAY
DESCRIPTION:MHD:. Spannung: 91 V
TRIGGER:-PT10M
END:VALARM
END:VEVENT
END:VCALENDAR