BEGIN:VCALENDAR
VERSION:2.0
PRODID:-//Goldgrube//myauktion.com//AT
CALSCALE:GREGORIAN
BEGIN:VEVENT
DTSTART:20260508T110500
DTEND:20260508T110530
LOCATION:Gewerbepark 13, 8562 Mooskirchen
DTSTAMP:20260424T180144
SUMMARY:MyAuktion: Ablauf Artikel Nr. 523522 Continental ContiWinterContact TS 830 P 255/40 R18 XL
URL;VALUE=URI:https://www.myauktion.com/versteigerung7666-position2444379-continental-contiwintercontact-ts-830-p-255-40-r18-xl.php
DESCRIPTION:: 35/2025.
UID:myauktion-7666-2444379
BEGIN:VALARM
ACTION:DISPLAY
DESCRIPTION:: 35/2025.
TRIGGER:-PT10M
END:VALARM
END:VEVENT
END:VCALENDAR