BEGIN:VCALENDAR
VERSION:2.0
PRODID:-//Goldgrube//myauktion.com//AT
CALSCALE:GREGORIAN
BEGIN:VEVENT
DTSTART:20260508T110700
DTEND:20260508T110730
LOCATION:Gewerbepark 13, 8562 Mooskirchen
DTSTAMP:20260425T015255
SUMMARY:MyAuktion: Ablauf Artikel Nr. 523524 Bridgestone Blizzak LM005 235/50 R20
URL;VALUE=URI:https://www.myauktion.com/versteigerung7666-position2444381-bridgestone-blizzak-lm005-235-50-r20.php
DESCRIPTION:
UID:myauktion-7666-2444381
BEGIN:VALARM
ACTION:DISPLAY
DESCRIPTION:
TRIGGER:-PT10M
END:VALARM
END:VEVENT
END:VCALENDAR