BEGIN:VCALENDAR
VERSION:2.0
PRODID:-//Goldgrube//myauktion.com//AT
CALSCALE:GREGORIAN
BEGIN:VEVENT
DTSTART:20260508T110800
DTEND:20260508T110830
LOCATION:Gewerbepark 13, 8562 Mooskirchen
DTSTAMP:20260425T015243
SUMMARY:MyAuktion: Ablauf Artikel Nr. 523525 BERLIN TIRES All Season 235/60 R18 107V XL
URL;VALUE=URI:https://www.myauktion.com/versteigerung7666-position2444382-berlin-tires-all-season-235-60-r18-107v-xl.php
DESCRIPTION:
UID:myauktion-7666-2444382
BEGIN:VALARM
ACTION:DISPLAY
DESCRIPTION:
TRIGGER:-PT10M
END:VALARM
END:VEVENT
END:VCALENDAR