BEGIN:VCALENDAR
VERSION:2.0
PRODID:-//Goldgrube//myauktion.com//AT
CALSCALE:GREGORIAN
BEGIN:VEVENT
DTSTART:20260508T110900
DTEND:20260508T110930
LOCATION:Gewerbepark 13, 8562 Mooskirchen
DTSTAMP:20260424T180143
SUMMARY:MyAuktion: Ablauf Artikel Nr. 523526 Pirelli Scorpion Zero All Season 275/40 R22
URL;VALUE=URI:https://www.myauktion.com/versteigerung7666-position2444383-pirelli-scorpion-zero-all-season-275-40-r22.php
DESCRIPTION:
UID:myauktion-7666-2444383
BEGIN:VALARM
ACTION:DISPLAY
DESCRIPTION:
TRIGGER:-PT10M
END:VALARM
END:VEVENT
END:VCALENDAR