BEGIN:VCALENDAR
VERSION:2.0
PRODID:-//Goldgrube//myauktion.com//AT
CALSCALE:GREGORIAN
BEGIN:VEVENT
DTSTART:20260508T111000
DTEND:20260508T111030
LOCATION:Gewerbepark 13, 8562 Mooskirchen
DTSTAMP:20260425T015258
SUMMARY:MyAuktion: Ablauf Artikel Nr. 523527 Dunlop Winter Sport 5 235/65 R17
URL;VALUE=URI:https://www.myauktion.com/versteigerung7666-position2444384-dunlop-winter-sport-5-235-65-r17.php
DESCRIPTION:
UID:myauktion-7666-2444384
BEGIN:VALARM
ACTION:DISPLAY
DESCRIPTION:
TRIGGER:-PT10M
END:VALARM
END:VEVENT
END:VCALENDAR