BEGIN:VCALENDAR
VERSION:2.0
PRODID:-//Goldgrube//myauktion.com//AT
CALSCALE:GREGORIAN
BEGIN:VEVENT
DTSTART:20260508T111100
DTEND:20260508T111130
LOCATION:Gewerbepark 13, 8562 Mooskirchen
DTSTAMP:20260425T015259
SUMMARY:MyAuktion: Ablauf Artikel Nr. 523528 Michelin CrossClimate 2 235/50 R19 103V
URL;VALUE=URI:https://www.myauktion.com/versteigerung7666-position2444385-michelin-crossclimate-2-235-50-r19-103v.php
DESCRIPTION:nicht sichtbar. Spannung: 103 V
UID:myauktion-7666-2444385
BEGIN:VALARM
ACTION:DISPLAY
DESCRIPTION:nicht sichtbar. Spannung: 103 V
TRIGGER:-PT10M
END:VALARM
END:VEVENT
END:VCALENDAR