BEGIN:VCALENDAR
VERSION:2.0
PRODID:-//Goldgrube//myauktion.com//AT
CALSCALE:GREGORIAN
BEGIN:VEVENT
DTSTART:20260508T111200
DTEND:20260508T111230
LOCATION:Gewerbepark 13, 8562 Mooskirchen
DTSTAMP:20260425T015250
SUMMARY:MyAuktion: Ablauf Artikel Nr. 523529 Goodyear Eagle F1 Asymmetric 2 SUV 285/45R20 112Y XL
URL;VALUE=URI:https://www.myauktion.com/versteigerung7666-position2444386-goodyear-eagle-f1-asymmetric-2-suv-285-45r20-112y-xl.php
DESCRIPTION:
UID:myauktion-7666-2444386
BEGIN:VALARM
ACTION:DISPLAY
DESCRIPTION:
TRIGGER:-PT10M
END:VALARM
END:VEVENT
END:VCALENDAR