BEGIN:VCALENDAR
VERSION:2.0
PRODID:-//Goldgrube//myauktion.com//AT
CALSCALE:GREGORIAN
BEGIN:VEVENT
DTSTART:20260508T111300
DTEND:20260508T111330
LOCATION:Gewerbepark 13, 8562 Mooskirchen
DTSTAMP:20260425T015253
SUMMARY:MyAuktion: Ablauf Artikel Nr. 523530 Continental VanContact 4Season 225/75 R16
URL;VALUE=URI:https://www.myauktion.com/versteigerung7666-position2444387-continental-vancontact-4season-225-75-r16.php
DESCRIPTION:Reifen mit der Dimension 225/75 R16, Tragfähigkeitsindex 121/120 R
UID:myauktion-7666-2444387
BEGIN:VALARM
ACTION:DISPLAY
DESCRIPTION:Reifen mit der Dimension 225/75 R16, Tragfähigkeitsindex 121/120 R
TRIGGER:-PT10M
END:VALARM
END:VEVENT
END:VCALENDAR