BEGIN:VCALENDAR
VERSION:2.0
PRODID:-//Goldgrube//myauktion.com//AT
CALSCALE:GREGORIAN
BEGIN:VEVENT
DTSTART:20260508T111400
DTEND:20260508T111430
LOCATION:Gewerbepark 13, 8562 Mooskirchen
DTSTAMP:20260425T015254
SUMMARY:MyAuktion: Ablauf Artikel Nr. 523531 Nankang Sportnex AS-2+ 225/35ZR17 86Y XL
URL;VALUE=URI:https://www.myauktion.com/versteigerung7666-position2444388-nankang-sportnex-as-2-225-35zr17-86y-xl.php
DESCRIPTION:
UID:myauktion-7666-2444388
BEGIN:VALARM
ACTION:DISPLAY
DESCRIPTION:
TRIGGER:-PT10M
END:VALARM
END:VEVENT
END:VCALENDAR