BEGIN:VCALENDAR
VERSION:2.0
PRODID:-//Goldgrube//myauktion.com//AT
CALSCALE:GREGORIAN
BEGIN:VEVENT
DTSTART:20260508T111500
DTEND:20260508T111530
LOCATION:Gewerbepark 13, 8562 Mooskirchen
DTSTAMP:20260425T015244
SUMMARY:MyAuktion: Ablauf Artikel Nr. 523532 Hankook Vantra Transit 215/65R15C 104/102T 6PR
URL;VALUE=URI:https://www.myauktion.com/versteigerung7666-position2444389-hankook-vantra-transit-215-65r15c-104-102t-6pr.php
DESCRIPTION:Okt.25
UID:myauktion-7666-2444389
BEGIN:VALARM
ACTION:DISPLAY
DESCRIPTION:Okt.25
TRIGGER:-PT10M
END:VALARM
END:VEVENT
END:VCALENDAR